BEGIN:VCALENDAR
VERSION:2.0
PRODID:-//Tukios.com/
BEGIN:VEVENT
UID:26e70690-216d-4b30-9294-b1fb49a89017@www.mckenziefuneral.com
DTSTAMP:20260422T202856Z
DTSTART:20260423T150000Z
DTEND:20260423T160000Z
SUMMARY:Visitation
DESCRIPTION:
URL:https://www.mckenziefuneral.com/obituaries/joan-hogan
LOCATION: 15618 S Cicero Ave  Oak Forest IL 60452
GEO:41.6080461;-87.7376614
END:VEVENT
END:VCALENDAR