BEGIN:VCALENDAR
VERSION:2.0
PRODID:-//Tukios.com/
BEGIN:VEVENT
UID:be8b19e8-f169-4fe3-b3a2-ba9d40015f01@www.mckenziefuneral.com
DTSTAMP:20260425T212354Z
DTSTART:20260427T200000Z
DTEND:20260428T010000Z
SUMMARY:Visitation
DESCRIPTION:
URL:https://www.mckenziefuneral.com/obituaries/ronald-perlikiewicz
LOCATION: 15618 S Cicero Ave  Oak Forest IL 60452
GEO:41.6080461;-87.7376614
END:VEVENT
END:VCALENDAR