BEGIN:VCALENDAR
VERSION:2.0
PRODID:-//Tukios.com/
BEGIN:VEVENT
UID:5c057043-b212-473a-bba2-e5a99e7d87e3@www.mckenziefuneral.com
DTSTAMP:20260425T211918Z
DTSTART:20260428T150000Z
DTEND:20260428T160000Z
SUMMARY:Mass
DESCRIPTION:
URL:https://www.mckenziefuneral.com/obituaries/ronald-perlikiewicz
LOCATION: 6707 175th St  Tinley Park IL 60477
GEO:41.5728259;-87.7816678
END:VEVENT
END:VCALENDAR