BEGIN:VCALENDAR
VERSION:2.0
PRODID:-//Tukios.com/
BEGIN:VEVENT
UID:cbf97775-3bad-46f5-91a8-fed0295aa996@www.mckenziefuneral.com
DTSTAMP:20260425T213015Z
DTSTART:20260428T140000Z
DTEND:20260428T150000Z
SUMMARY:Prayer Service
DESCRIPTION:
URL:https://www.mckenziefuneral.com/obituaries/ronald-perlikiewicz
LOCATION: 15618 S Cicero Ave  Oak Forest IL 60452
GEO:41.6080461;-87.7376614
END:VEVENT
END:VCALENDAR