BEGIN:VCALENDAR
VERSION:2.0
PRODID:-//Tukios.com/
BEGIN:VEVENT
UID:056daa88-49da-4815-8937-97e61d18051a@www.mckenziefuneral.com
DTSTAMP:20260425T212819Z
DTSTART:20260428T164500Z
DTEND:20260428T174500Z
SUMMARY:Burial
DESCRIPTION:
URL:https://www.mckenziefuneral.com/obituaries/ronald-perlikiewicz
LOCATION: 7201 Archer Rd  Justice IL 60458
GEO:41.7538475;-87.8267292
END:VEVENT
END:VCALENDAR